BEGIN:VCALENDAR
VERSION:2.0
PRODID:-//wp-events-plugin.com//7.2.3.1//EN
TZID:America/Los_Angeles
X-WR-TIMEZONE:America/Los_Angeles
BEGIN:VEVENT
UID:6@slocce.org
DTSTART;TZID=America/Los_Angeles:20260613T000000
DTEND;TZID=America/Los_Angeles:20260613T000000
DTSTAMP:20251222T225226Z
URL:https://slocce.org/events/picnic-at-meadow-park/
SUMMARY:Picnic at Meadow Park
DESCRIPTION:Time TBD.
LOCATION:Meadow Park\, 2251 Meadow St\, San Luis Obispo\, CA\, 93401\, Unit
 ed States
X-APPLE-STRUCTURED-LOCATION;VALUE=URI;X-ADDRESS=2251 Meadow St\, San Luis O
 bispo\, CA\, 93401\, United States;X-APPLE-RADIUS=100;X-TITLE=Meadow Park:
 geo:0,0
END:VEVENT
BEGIN:VTIMEZONE
TZID:America/Los_Angeles
X-LIC-LOCATION:America/Los_Angeles
BEGIN:DAYLIGHT
DTSTART:20260308T030000
TZOFFSETFROM:-0800
TZOFFSETTO:-0700
TZNAME:PDT
END:DAYLIGHT
END:VTIMEZONE
END:VCALENDAR